BEGIN:VCALENDAR
VERSION:2.0
PRODID:spatie/icalendar-generator
DESCRIPTION:Veranstaltungen von Kleinbahnverein Lengede e.V.
X-WR-CALDESC:Veranstaltungen von Kleinbahnverein Lengede e.V.
REFRESH-INTERVAL;VALUE=DURATION:PT1440M
X-PUBLISHED-TTL:PT1440M
BEGIN:VTIMEZONE
TZID:Etc/GMT+0
BEGIN:STANDARD
DTSTART:20251224T125500Z
TZOFFSETFROM:+0000
TZOFFSETTO:+0000
END:STANDARD
END:VTIMEZONE
BEGIN:VTIMEZONE
TZID:UTC
BEGIN:STANDARD
DTSTART:20250728T210350Z
TZOFFSETFROM:+0000
TZOFFSETTO:+0000
END:STANDARD
END:VTIMEZONE
BEGIN:VEVENT
UID:27-22
DTSTAMP:20260424T210350Z
SUMMARY:Apfelfahrt beim Apfelfest
LOCATION:Park am Seilbahnberg Vallstedter Weg 97  Lengede  38268
ORGANIZER;CN=admin:MAILTO:admin@kleinbahnverein-lengede.de
DTSTART;TZID=Etc/GMT+0:20260920T125500
DTEND;TZID=Etc/GMT+0:20260920T180000
X-ALT-DESC;FMTTYPE=TEXT/HTML:Liebe Kleinbahnfreunde\, Während die Obstfreu
 nde auf der Streuobstwiese den Apfel in jedem möglichen Zustand genießen
 \, könnt ihr mit uns eine schöne Runde drehen. Auch mit einem Apfel in d
 er Hand. Wir freuen uns auf euch\, Euer Kleinbahnverein
CATEGORIES:General
URL;VALUE=URI:http://kleinbahnverein-lengede.com/mc-events/apfelfahrt-beim-
 apfelfest/
METHOD:PUBLISH
END:VEVENT
END:VCALENDAR